BEGIN:VCALENDAR
VERSION:2.0
PRODID:-//Squarespace Inc/Squarespace 6//v6//EN
BEGIN:VEVENT
UID:58aa7213f7e0ab89f53aedc0@squarespace.com
DTSTAMP:20170220T043719Z
DTSTART:20170413T140000Z
DTEND:20170417T135900Z
SUMMARY:Public Holidays - Easter
END:VEVENT
END:VCALENDAR
