BEGIN:VCALENDAR
VERSION:2.0
PRODID:-//Squarespace Inc/Squarespace 6//v6//EN
BEGIN:VEVENT
UID:58aa790cb8a79b71785dba99@squarespace.com
DTSTAMP:20170220T051350Z
DTSTART:20170331T140000Z
DTEND:20170413T135900Z
SUMMARY:School Holidays
END:VEVENT
END:VCALENDAR
