BEGIN:VCALENDAR
VERSION:2.0
PRODID:-//Squarespace Inc/Squarespace 6//v6//EN
BEGIN:VEVENT
UID:58aa7dd8c534a5fdedc38674@squarespace.com
DTSTAMP:20170220T052636Z
DTSTART:20170328T223000Z
DTEND:20170329T050000Z
SUMMARY:Cross Country Carnival
END:VEVENT
END:VCALENDAR
