BEGIN:VCALENDAR
VERSION:2.0
PRODID:-//Squarespace Inc/Squarespace 6//v6//EN
BEGIN:VEVENT
UID:58aa607520099e74879a0109@squarespace.com
DTSTAMP:20170220T042335Z
DTSTART:20170317T220000Z
DTEND:20170318T020000Z
SUMMARY:Working Bee - Term 1
END:VEVENT
END:VCALENDAR
