BEGIN:VCALENDAR
VERSION:2.0
PRODID:-//Squarespace Inc/Squarespace 6//v6//EN
BEGIN:VEVENT
UID:58aa75ddebbd1ab59c7858ce@squarespace.com
DTSTAMP:20170220T045257Z
DTSTART:20170223T080000Z
DTEND:20170223T100000Z
SUMMARY:Swimming Carnival
END:VEVENT
END:VCALENDAR
