BEGIN:VCALENDAR
VERSION:2.0
PRODID:-//Squarespace Inc/Squarespace 6//v6//EN
BEGIN:VEVENT
UID:58aa7011a5790a1849f42826@squarespace.com
DTSTAMP:20170220T044003Z
DTSTART:20171124T220000Z
DTEND:20171125T020000Z
SUMMARY:Working Bee - Term 4
END:VEVENT
END:VCALENDAR
