BEGIN:VCALENDAR
VERSION:2.0
PRODID:-//Squarespace Inc/Squarespace 6//v6//EN
BEGIN:VEVENT
UID:58aa739e6b8f5bc50822f136@squarespace.com
DTSTAMP:20170220T044310Z
DTSTART:20171001T140000Z
DTEND:20171002T135900Z
SUMMARY:Public Holiday - Queen's Birthday
END:VEVENT
END:VCALENDAR
