BEGIN:VCALENDAR
VERSION:2.0
PRODID:-//Squarespace Inc/Squarespace 6//v6//EN
BEGIN:VEVENT
UID:58aa7b5de6f2e14f1965b6d6@squarespace.com
DTSTAMP:20180111T063514Z
DTSTART:20171201T140000Z
DTEND:20180121T135900Z
SUMMARY:School Holidays
END:VEVENT
END:VCALENDAR
