BEGIN:VCALENDAR
VERSION:2.0
PRODID:-//Squarespace Inc/Squarespace 6//v6//EN
BEGIN:VEVENT
UID:58aa5fd5197aea3df282e7df@squarespace.com
DTSTAMP:20170220T042600Z
DTSTART:20171130T223000Z
DTEND:20171201T050000Z
SUMMARY:Last Day of Term 4
END:VEVENT
END:VCALENDAR
