BEGIN:VCALENDAR
VERSION:2.0
PRODID:-//Squarespace Inc/Squarespace 6//v6//EN
BEGIN:VEVENT
UID:58aa713ebe6594a0842c2e93@squarespace.com
DTSTAMP:20180112T032435Z
DTSTART:20171123T081500Z
DTEND:20171123T110000Z
SUMMARY:Awards Night
END:VEVENT
END:VCALENDAR
