BEGIN:VCALENDAR
VERSION:2.0
PRODID:-//Squarespace Inc/Squarespace 6//v6//EN
BEGIN:VEVENT
UID:58aa71982e69cf0bf2c42d60@squarespace.com
DTSTAMP:20170220T043426Z
DTSTART:20171116T090000Z
DTEND:20171116T103000Z
SUMMARY:Year 6 Celebration Dinner
END:VEVENT
END:VCALENDAR
