BEGIN:VCALENDAR
VERSION:2.0
PRODID:-//Squarespace Inc/Squarespace 6//v6//EN
BEGIN:VEVENT
UID:58aa5ddd20099e748799e526@squarespace.com
DTSTAMP:20170220T042551Z
DTSTART:20171002T223000Z
DTEND:20171003T050000Z
SUMMARY:First Day of Term 4
END:VEVENT
END:VCALENDAR
