BEGIN:VCALENDAR
VERSION:2.0
PRODID:-//Squarespace Inc/Squarespace 6//v6//EN
BEGIN:VEVENT
UID:58aa74086a4963c0a968da04@squarespace.com
DTSTAMP:20170220T044455Z
DTSTART:20171015T223000Z
DTEND:20171016T053000Z
SUMMARY:Student Free Day
END:VEVENT
END:VCALENDAR
